BEGIN:VCALENDAR
VERSION:2.0
PRODID:-//Bien-être by Grégory - ECPv6.15.20//NONSGML v1.0//EN
CALSCALE:GREGORIAN
METHOD:PUBLISH
X-WR-CALNAME:Bien-être by Grégory
X-ORIGINAL-URL:https://bien-etrebygregory.fr
X-WR-CALDESC:Évènements pour Bien-être by Grégory
REFRESH-INTERVAL;VALUE=DURATION:PT1H
X-Robots-Tag:noindex
X-PUBLISHED-TTL:PT1H
BEGIN:VTIMEZONE
TZID:Europe/Paris
BEGIN:DAYLIGHT
TZOFFSETFROM:+0100
TZOFFSETTO:+0200
TZNAME:CEST
DTSTART:20240331T010000
END:DAYLIGHT
BEGIN:STANDARD
TZOFFSETFROM:+0200
TZOFFSETTO:+0100
TZNAME:CET
DTSTART:20241027T010000
END:STANDARD
BEGIN:DAYLIGHT
TZOFFSETFROM:+0100
TZOFFSETTO:+0200
TZNAME:CEST
DTSTART:20250330T010000
END:DAYLIGHT
BEGIN:STANDARD
TZOFFSETFROM:+0200
TZOFFSETTO:+0100
TZNAME:CET
DTSTART:20251026T010000
END:STANDARD
BEGIN:DAYLIGHT
TZOFFSETFROM:+0100
TZOFFSETTO:+0200
TZNAME:CEST
DTSTART:20260329T010000
END:DAYLIGHT
BEGIN:STANDARD
TZOFFSETFROM:+0200
TZOFFSETTO:+0100
TZNAME:CET
DTSTART:20261025T010000
END:STANDARD
END:VTIMEZONE
BEGIN:VEVENT
DTSTART;TZID=Europe/Paris:20250502T190000
DTEND;TZID=Europe/Paris:20250502T203000
DTSTAMP:20260419T152947
CREATED:20250413T183205Z
LAST-MODIFIED:20250413T204800Z
UID:51124-1746212400-1746217800@bien-etrebygregory.fr
SUMMARY:COMPLET: Relaxation Guidée à Bussang
DESCRIPTION:Relaxation Guidée\nPrenez un moment pour vous et laissez-vous guider vers un état de relaxation profonde grâce à Bien-être by Grégory. Cette séance vous offre une expérience unique pour détendre votre corps et apaiser votre esprit\, dans un cadre confortable et une ambiance chaleureuse et bienveillante.\nAu programme :\n• Une relaxation guidée pour relâcher les tensions.\n• Un moment d’échanges convivial pour partager vos ressentis.\n• Une petite collation pour prolonger la détente.\nInformations pratiques :\n• Durée : 1h30\n• Quand : À 19h00\, chaque 1er vendredi du mois\n• Lieu : Bien-être by Grégory\, 9 place de la Mairie\, 88540 Bussang\n• Tarif : 10 €/personne\n• Places limitées : 6 participants maximum\n• Réservation obligatoire\nPrenez soin de vous et venez profiter de ce moment rien qu’à vous !
URL:https://bien-etrebygregory.fr/event/complet-relaxation-guidee-a-bussang/
LOCATION:Bien-être by Grégory\, 9\, Place de la Mairie\, Bussang\, 88540\, France
CATEGORIES:Bien-être
ATTACH;FMTTYPE=image/jpeg:https://bien-etrebygregory.fr/wp-content/uploads/2025/04/email1744575357132.jpg
END:VEVENT
BEGIN:VEVENT
DTSTART;TZID=Europe/Paris:20250510T090000
DTEND;TZID=Europe/Paris:20250510T170000
DTSTAMP:20260419T152947
CREATED:20250413T202702Z
LAST-MODIFIED:20250413T204857Z
UID:51151-1746867600-1746896400@bien-etrebygregory.fr
SUMMARY:Journée Reiki avec Typhaine
DESCRIPTION:🌟 Venez découvrir le Reiki le samedi 10 Mai 2025 et profitez de ses bienfaits ! 🌟\n✨ Typhaine\, Maître Reiki du Ménil\, vous propose des séances exceptionnelles chez Bien-être by Grégory à Bussang ! \n🕒 Durée de la séance : environ 1h00\n📅 Date : samedi 10 Mai 2025 \n🔍 Qu’est-ce que le Reiki ?\nLe Reiki est une approche énergétique holistique qui harmonise les énergies du corps et de l’esprit grâce à une technique d’apposition des mains. Il favorise une détente profonde\, équilibre les énergies et apaise durablement le corps\, le psychisme et les émotions. \n🌈 Ses bienfaits :\n• Réduction du stress et de l’anxiété\n• Favorise la relaxation\n• Améliore le bien-être émotionnel et l’énergie globale \n💰 Prix de la séance : 60€ \n📞 Réservez vite votre créneau !\nContactez-moi directement pour profiter de cette expérience unique avec Typhaine. \nÀ très bientôt\,\nGrégory\nBien-être by Grégory – Bussang
URL:https://bien-etrebygregory.fr/event/51151/
LOCATION:Bien-être by Grégory\, 9\, Place de la Mairie\, Bussang\, 88540\, France
CATEGORIES:Bien-être
ATTACH;FMTTYPE=image/png:https://bien-etrebygregory.fr/wp-content/uploads/2025/04/email1744575311959@reallygreatsite.png
END:VEVENT
BEGIN:VEVENT
DTSTART;TZID=Europe/Paris:20250518T180000
DTEND;TZID=Europe/Paris:20250518T193000
DTSTAMP:20260419T152947
CREATED:20250413T183740Z
LAST-MODIFIED:20250413T205040Z
UID:51127-1747591200-1747596600@bien-etrebygregory.fr
SUMMARY:Relaxation Guidée : Spécial fin de week-end
DESCRIPTION:✨ Relaxation Guidée ✨\nPrenez du temps pour vous et plongez dans une bulle de sérénité avec Bien-être by Grégory. Cette séance vous invite à une profonde détente\, dans une atmosphère chaleureuse et bienveillante. \n🧘 Au programme :\n✅ Relaxation guidée pour libérer les tensions\n✅ Moment d’échange convivial pour partager vos ressentis\n✅ Petite collation pour prolonger la détente \n📍 Informations pratiques :\n📅 Quand ? Dimanche à 18h00\n📍 Où ? Bien-être by Grégory – 9 place de la Mairie\, 88540 Bussang\n💰 Tarif : 10 €/personne\n👥 Places limitées : 6 participants maximum\n📌 Réservation obligatoire \n💡 Important : Indiquer votre participation sur Facebook ne fait pas office de réservation. \n✨ Offrez-vous ce moment de bien-être et laissez-vous guider vers la détente ! ✨
URL:https://bien-etrebygregory.fr/event/relaxation-guidee-special-fin-de-week-end/
LOCATION:Bien-être by Grégory\, 9\, Place de la Mairie\, Bussang\, 88540\, France
CATEGORIES:Bien-être
ATTACH;FMTTYPE=image/jpeg:https://bien-etrebygregory.fr/wp-content/uploads/2025/04/email1744575376874.jpg
END:VEVENT
BEGIN:VEVENT
DTSTART;TZID=Europe/Paris:20250523T080000
DTEND;TZID=Europe/Paris:20250523T170000
DTSTAMP:20260419T152947
CREATED:20250414T055342Z
LAST-MODIFIED:20250414T055342Z
UID:51167-1747987200-1748019600@bien-etrebygregory.fr
SUMMARY:Découverte du Chi Nei Tsang avec Elly
DESCRIPTION:🌟 **CHI NEI TSANG** 🌟\n**Qu’est-ce que le Chi Nei Tsang ?** \nLe Chi Nei Tsang\, un massage des organes internes aux racines millénaires\, établit une connexion entre le corps\, l’esprit et l’âme. En se concentrant sur notre « deuxième cerveau abdominal »\, il permet à notre énergie vitale\, le Chi\, de circuler harmonieusement dans notre corps. Les organes autour du nombril jouent un rôle essentiel dans notre santé et notre équilibre. \n**Que pouvez-vous attendre ?** \n✨ Une approche personnalisée\, centrée sur VOUS et votre corps.\n✨ Confidentialité totale de vos informations personnelles.\n✨ Un échange sur vos antécédents médicaux\, car le Chi Nei Tsang ne remplace pas un traitement médical.\nLors de la séance\, nous identifierons ensemble les tensions et blocages d’énergie pour les libérer grâce à des techniques de massage\, de respiration et de son. \n**Quels sont les bienfaits de ce massage ?** \n🌱 Une connexion profonde avec votre corps.\n🌱 Détoxification et dissolution des blocages énergétiques.\n🌱 Élimination des toxines pour libérer plus d’énergie.\n🌱 Amélioration de votre santé et vitalité. \n**À propos de moi**\nJe suis Elly de Laat\, Néerlandaise vivant en France depuis 2009. Après un parcours d’exploration spirituelle et psychologique\, j’ai trouvé mon ancrage à travers le Chi Nei Tsang. C’est une expérience que je souhaite partager avec vous ! \n📅 **Séance individuelle sur rendez-vous le 22/03/2025** \n📍 Chez Bien-être by Grégory à Bussang \n💸 Séance découverte à 55€ (durée : 1h30) \n📞 Réservation au 0781617575 \n🔔 **Nombre de créneaux limités\, n’attendez plus !** 🔔
URL:https://bien-etrebygregory.fr/event/decouverte-du-chi-nei-tsang-avec-elly/
LOCATION:Bien-être by Grégory\, 9\, Place de la Mairie\, Bussang\, 88540\, France
CATEGORIES:Bien-être
ATTACH;FMTTYPE=image/png:https://bien-etrebygregory.fr/wp-content/uploads/2025/04/email1744575364872.png
END:VEVENT
BEGIN:VEVENT
DTSTART;TZID=Europe/Paris:20250523T190000
DTEND;TZID=Europe/Paris:20250523T203000
DTSTAMP:20260419T152947
CREATED:20250413T184313Z
LAST-MODIFIED:20250413T205125Z
UID:51129-1748026800-1748032200@bien-etrebygregory.fr
SUMMARY:Relaxation Guidée à Bussang
DESCRIPTION:✨ Relaxation Guidée ✨\nPrenez du temps pour vous et plongez dans une bulle de sérénité avec Bien-être by Grégory. Cette séance vous invite à une profonde détente\, dans une atmosphère chaleureuse et bienveillante. \n🧘 Au programme :\n✅ Relaxation guidée pour libérer les tensions\n✅ Moment d’échange convivial pour partager vos ressentis\n✅ Petite collation pour prolonger la détente \n📍 Informations pratiques :\n📅 Quand ? vendredi à 19h00\n📍 Où ? Bien-être by Grégory – 9 place de la Mairie\, 88540 Bussang\n💰 Tarif : 10 €/personne\n👥 Places limitées : 6 participants maximum\n📌 Réservation obligatoire \n✨ Offrez-vous ce moment de bien-être et laissez-vous guider vers la détente ! ✨
URL:https://bien-etrebygregory.fr/event/51129/
LOCATION:Bien-être by Grégory\, 9\, Place de la Mairie\, Bussang\, 88540\, France
CATEGORIES:Bien-être
ATTACH;FMTTYPE=image/jpeg:https://bien-etrebygregory.fr/wp-content/uploads/2025/04/email1744575357132.jpg
END:VEVENT
BEGIN:VEVENT
DTSTART;TZID=Europe/Paris:20250524T090000
DTEND;TZID=Europe/Paris:20250524T170000
DTSTAMP:20260419T152947
CREATED:20250413T203651Z
LAST-MODIFIED:20250413T205209Z
UID:51156-1748077200-1748106000@bien-etrebygregory.fr
SUMMARY:Journée Réflexologie à Bussang
DESCRIPTION:🌟 **Nathalie vous invite à découvrir la réflexologie !** 🌟\nVenez profiter des bienfaits de la réflexologie plantaire\, palmaire et cranio-faciale lors de séances spéciales le **Samedi 24 Mai 2025** chez **Bien-être by Grégory à Bussang** ! 🧘‍♀️✨ \n### 🧖‍♀️ **Réflexologie Cranio-Faciale** 🧖‍♀️\nVous ressentez des tensions au niveau du haut du corps ? La réflexologie cranio-faciale est faite pour vous ! Elle aide à soulager :\n– Tensions cervicales\, nuque\, épaules\, coudes\, mâchoire\n– Raideurs musculaires\n– Mobilité réduite du cou et de la tête\n– Fatigue\, maux de tête\n– Douleurs irradiant dans le dos et les épaules\n– Stress\, troubles du sommeil \n💆‍♂️ Pendant la séance\, je vais travailler en douceur sur les tissus\, muscles et fascias pour diminuer ces tensions et améliorer votre mobilité. Vous serez allongé sur une table confortable\, accompagné d’une musique apaisante dans un cadre relaxant. 🌙 \n**Tarif : 60 € (durée de 50-60 mn)**\n*Note : La réflexologie ne remplace pas une séance de kinésithérapie !* \n— \n### 🦶 **Réflexologie Plantaire** 🦶\nVos pieds sont entre de bonnes mains ! Avec la réflexologie plantaire\, je vous aiderai à rééquilibrer votre organisme sur les plans physique\, psychique et émotionnel\, favorisant ainsi la circulation de l’énergie vitale. 🌈 \nLors de la séance\, je vais exercer des pressions sur des points réflexes des pieds\, stimulant ainsi les fonctions corporelles et améliorant la circulation sanguine et lymphatique. 💖 \n**Tarif : 55 € (durée d’environ 1h)**\n*Cette méthode est complémentaire à la médecine traditionnelle et ne remplace pas l’avis de votre médecin.* \n— \n### ✋ **Réflexologie Palmaire** ✋\nSaviez-vous qu’il existe également des zones réflexes sur vos mains ? En exerçant une pression ciblée\, la réflexologie palmaire stimule les fonctions corporelles\, améliore la circulation sanguine et favorise un bien-être général. 🌟 \nLes bienfaits incluent :\n– Soulagement des tensions articulaires et musculaires\n– Amélioration des problèmes digestifs et respiratoires\n– Réduction du stress et de l’anxiété \n**Séance combinée palmaire et plantaire : 1h15 à 65 €** 💼 \n— \n🗓️ **Sur rendez-vous\, nombre de créneaux limité.**\nContactez **Grégory au 0781617575** pour réserver votre moment de détente ! 📞💆‍♀️ \nN’hésitez pas à venir découvrir ces pratiques et leurs nombreux bienfaits ! 🌼✨
URL:https://bien-etrebygregory.fr/event/journee-reflexologie-a-bussang/
LOCATION:Bien-être by Grégory\, 9\, Place de la Mairie\, Bussang\, 88540\, France
CATEGORIES:Bien-être
ATTACH;FMTTYPE=image/png:https://bien-etrebygregory.fr/wp-content/uploads/2025/04/email1744575586541.png
END:VEVENT
END:VCALENDAR